BEGIN:VCALENDAR
VERSION:2.0
PRODID:-//www.thearcofsomerset.org//NONSGML kigkonsult.se iCalcreator 2.30.
 10//
CALSCALE:GREGORIAN
METHOD:PUBLISH
UID:2a9cfc79-f015-492b-9e67-dbf460b20b70
X-WR-CALDESC:
X-WR-RELCALID:17a610cd4f9e794ba3cac365441b8b53
X-WR-TIMEZONE:America/New_York
BEGIN:VTIMEZONE
TZID:America/New_York
BEGIN:STANDARD
TZNAME:EST
DTSTART:20201101T020000
TZOFFSETFROM:-0400
TZOFFSETTO:-0500
RDATE:20211107T020000
END:STANDARD
BEGIN:DAYLIGHT
TZNAME:EDT
DTSTART:20210314T020000
TZOFFSETFROM:-0500
TZOFFSETTO:-0400
RDATE:20220313T020000
END:DAYLIGHT
END:VTIMEZONE
BEGIN:VEVENT
UID:d28f3291-ed61-48c1-88ce-e20420c287fd
DTSTAMP:20260426T001028Z
DESCRIPTION:
DTSTART;TZID=America/New_York:20210406T130000
DTEND;TZID=America/New_York:20210406T133000
LOCATION:
SUMMARY:“Music for Hope and Inspiration”                      Guest Musicia
 n: Louie and Music Game!
END:VEVENT
END:VCALENDAR
