BEGIN:VCALENDAR
VERSION:2.0
PRODID:-//www.thearcofsomerset.org//NONSGML kigkonsult.se iCalcreator 2.30.
 10//
CALSCALE:GREGORIAN
METHOD:PUBLISH
UID:f69eb10b-fa44-4064-9f65-a0d43d8a8a3f
X-WR-CALDESC:
X-WR-RELCALID:40f39148886b3bef1a7f9691e65ccd0f
X-WR-TIMEZONE:America/New_York
BEGIN:VTIMEZONE
TZID:America/New_York
BEGIN:STANDARD
TZNAME:EST
DTSTART:20201101T020000
TZOFFSETFROM:-0400
TZOFFSETTO:-0500
RDATE:20211107T020000
END:STANDARD
BEGIN:DAYLIGHT
TZNAME:EDT
DTSTART:20210314T020000
TZOFFSETFROM:-0500
TZOFFSETTO:-0400
RDATE:20220313T020000
END:DAYLIGHT
END:VTIMEZONE
BEGIN:VEVENT
UID:bffc6c21-598b-452c-9003-f610d083b624
DTSTAMP:20260425T235944Z
DESCRIPTION:
DTSTART;TZID=America/New_York:20210406T103000
DTEND;TZID=America/New_York:20210406T110000
LOCATION:
SUMMARY:Literacy class (Griggstown) everyone welcome!
END:VEVENT
END:VCALENDAR
