BEGIN:VCALENDAR
VERSION:2.0
PRODID:-//www.thearcofsomerset.org//NONSGML kigkonsult.se iCalcreator 2.30.
 10//
CALSCALE:GREGORIAN
METHOD:PUBLISH
UID:bb16281c-371f-454a-a7d4-7e1b5cb16a4b
X-WR-CALDESC:
X-WR-RELCALID:5958b8077005effa029703e9c4660709
X-WR-TIMEZONE:America/New_York
BEGIN:VTIMEZONE
TZID:America/New_York
BEGIN:STANDARD
TZNAME:EST
DTSTART:20201101T020000
TZOFFSETFROM:-0400
TZOFFSETTO:-0500
RDATE:20211107T020000
END:STANDARD
BEGIN:DAYLIGHT
TZNAME:EDT
DTSTART:20210314T020000
TZOFFSETFROM:-0500
TZOFFSETTO:-0400
RDATE:20220313T020000
END:DAYLIGHT
END:VTIMEZONE
BEGIN:VEVENT
UID:7c01588e-2a51-4fd9-a07b-96f9029fdc26
DTSTAMP:20260426T000109Z
DESCRIPTION:
DTSTART;TZID=America/New_York:20210406T130000
DTEND;TZID=America/New_York:20210406T133000
LOCATION:
SUMMARY:Literacy class (RHGH) everyone welcome!
END:VEVENT
END:VCALENDAR
