BEGIN:VCALENDAR
VERSION:2.0
PRODID:-//www.thearcofsomerset.org//NONSGML kigkonsult.se iCalcreator 2.30.
 10//
CALSCALE:GREGORIAN
METHOD:PUBLISH
UID:0ea97258-2366-41ed-8373-f509f0abacb4
X-WR-CALDESC:
X-WR-RELCALID:75a5f9f3072d3d16f11e928fd25266da
X-WR-TIMEZONE:America/New_York
BEGIN:VTIMEZONE
TZID:America/New_York
BEGIN:STANDARD
TZNAME:EST
DTSTART:20201101T020000
TZOFFSETFROM:-0400
TZOFFSETTO:-0500
RDATE:20211107T020000
END:STANDARD
BEGIN:DAYLIGHT
TZNAME:EDT
DTSTART:20210314T020000
TZOFFSETFROM:-0500
TZOFFSETTO:-0400
RDATE:20220313T020000
END:DAYLIGHT
END:VTIMEZONE
BEGIN:VEVENT
UID:71eeaa6b-8f6c-4a7e-8cba-9949e165bc1d
DTSTAMP:20260425T235755Z
DESCRIPTION:
DTSTART;TZID=America/New_York:20210408T150000
DTEND;TZID=America/New_York:20210408T153000
LOCATION:
SUMMARY:“Hot TopiX” –  Let’s Talk Portion Control!
END:VEVENT
END:VCALENDAR
