BEGIN:VCALENDAR
VERSION:2.0
PRODID:-//www.thearcofsomerset.org//NONSGML kigkonsult.se iCalcreator 2.30.
 10//
CALSCALE:GREGORIAN
METHOD:PUBLISH
UID:5b875640-c8a0-4def-a461-7eae88eadf81
X-WR-CALDESC:
X-WR-RELCALID:e5eb323b4921b133346c1aaff21333df
X-WR-TIMEZONE:America/New_York
BEGIN:VTIMEZONE
TZID:America/New_York
BEGIN:STANDARD
TZNAME:EST
DTSTART:20201101T020000
TZOFFSETFROM:-0400
TZOFFSETTO:-0500
RDATE:20211107T020000
END:STANDARD
BEGIN:DAYLIGHT
TZNAME:EDT
DTSTART:20210314T020000
TZOFFSETFROM:-0500
TZOFFSETTO:-0400
RDATE:20220313T020000
END:DAYLIGHT
END:VTIMEZONE
BEGIN:VEVENT
UID:3e95a325-cbde-4446-b791-d53c6b72dcaf
DTSTAMP:20260425T235801Z
DESCRIPTION:
DTSTART;TZID=America/New_York:20210408T100000
DTEND;TZID=America/New_York:20210408T103000
LOCATION:
SUMMARY:Literacy class (Ardsley) –  everyone welcome!
END:VEVENT
END:VCALENDAR
