BEGIN:VCALENDAR
VERSION:2.0
PRODID:-//www.thearcofsomerset.org//NONSGML kigkonsult.se iCalcreator 2.30.
 10//
CALSCALE:GREGORIAN
METHOD:PUBLISH
UID:b0c8f653-3aac-4e30-9c78-6eabffab6ed6
X-WR-CALDESC:
X-WR-RELCALID:102eec65550d75db4a208082e58c50f4
X-WR-TIMEZONE:America/New_York
BEGIN:VTIMEZONE
TZID:America/New_York
BEGIN:STANDARD
TZNAME:EST
DTSTART:20201101T020000
TZOFFSETFROM:-0400
TZOFFSETTO:-0500
RDATE:20211107T020000
END:STANDARD
BEGIN:DAYLIGHT
TZNAME:EDT
DTSTART:20210314T020000
TZOFFSETFROM:-0500
TZOFFSETTO:-0400
RDATE:20220313T020000
END:DAYLIGHT
END:VTIMEZONE
BEGIN:VEVENT
UID:c8470afe-3288-4f61-9fcb-3423ff4fea44
DTSTAMP:20260425T235800Z
DESCRIPTION:
DTSTART;TZID=America/New_York:20210409T130000
DTEND;TZID=America/New_York:20210409T133000
LOCATION:
SUMMARY:Literacy class (Commons 1) - everyone welcome!
END:VEVENT
END:VCALENDAR
