BEGIN:VCALENDAR
VERSION:2.0
PRODID:-//www.thearcofsomerset.org//NONSGML kigkonsult.se iCalcreator 2.30.
 10//
CALSCALE:GREGORIAN
METHOD:PUBLISH
UID:ef7678fa-4dde-4785-b88a-18d0ac8e2cb7
X-WR-CALDESC:
X-WR-RELCALID:178ecebce9fac6bb2a21cf6a6e5413d1
X-WR-TIMEZONE:America/New_York
BEGIN:VTIMEZONE
TZID:America/New_York
BEGIN:STANDARD
TZNAME:EST
DTSTART:20201101T020000
TZOFFSETFROM:-0400
TZOFFSETTO:-0500
RDATE:20211107T020000
END:STANDARD
BEGIN:DAYLIGHT
TZNAME:EDT
DTSTART:20210314T020000
TZOFFSETFROM:-0500
TZOFFSETTO:-0400
RDATE:20220313T020000
END:DAYLIGHT
END:VTIMEZONE
BEGIN:VEVENT
UID:a7a56a47-0990-4ad9-91d3-19549659fe55
DTSTAMP:20260426T000758Z
DESCRIPTION:
DTSTART;TZID=America/New_York:20210413T150000
DTEND;TZID=America/New_York:20210413T153000
LOCATION:
SUMMARY:“Hot TopiX” –  Spoken Word Poetry
END:VEVENT
END:VCALENDAR
