BEGIN:VCALENDAR
VERSION:2.0
PRODID:-//www.thearcofsomerset.org//NONSGML kigkonsult.se iCalcreator 2.30.
 10//
CALSCALE:GREGORIAN
METHOD:PUBLISH
UID:dcccd0b2-1176-457b-9250-f6f6fd9b9990
X-WR-CALDESC:
X-WR-RELCALID:a444a79d59e40f00f06c2f849c67c034
X-WR-TIMEZONE:America/New_York
BEGIN:VTIMEZONE
TZID:America/New_York
BEGIN:STANDARD
TZNAME:EST
DTSTART:20201101T020000
TZOFFSETFROM:-0400
TZOFFSETTO:-0500
RDATE:20211107T020000
END:STANDARD
BEGIN:DAYLIGHT
TZNAME:EDT
DTSTART:20210314T020000
TZOFFSETFROM:-0500
TZOFFSETTO:-0400
RDATE:20220313T020000
END:DAYLIGHT
END:VTIMEZONE
BEGIN:VEVENT
UID:61933a75-515a-4ae5-99c6-9ac5e3690c85
DTSTAMP:20260426T000917Z
DESCRIPTION:
DTSTART;TZID=America/New_York:20210413T130000
DTEND;TZID=America/New_York:20210413T133000
LOCATION:
SUMMARY:“Music for Hope and Inspiration” –  Justin Brown
END:VEVENT
END:VCALENDAR
