BEGIN:VCALENDAR
VERSION:2.0
PRODID:-//www.thearcofsomerset.org//NONSGML kigkonsult.se iCalcreator 2.30.
 10//
CALSCALE:GREGORIAN
METHOD:PUBLISH
UID:1c96901f-6ad2-4408-aad6-3a0ca6563027
X-WR-CALDESC:
X-WR-RELCALID:bf19dab02a6cf67938dd48897e30c4e9
X-WR-TIMEZONE:America/New_York
BEGIN:VTIMEZONE
TZID:America/New_York
BEGIN:STANDARD
TZNAME:EST
DTSTART:20201101T020000
TZOFFSETFROM:-0400
TZOFFSETTO:-0500
RDATE:20211107T020000
END:STANDARD
BEGIN:DAYLIGHT
TZNAME:EDT
DTSTART:20210314T020000
TZOFFSETFROM:-0500
TZOFFSETTO:-0400
RDATE:20220313T020000
END:DAYLIGHT
END:VTIMEZONE
BEGIN:VEVENT
UID:7f3961c4-2f61-41d3-a77a-c57802829de3
DTSTAMP:20260425T235938Z
DESCRIPTION:
DTSTART;TZID=America/New_York:20210413T130000
DTEND;TZID=America/New_York:20210413T133000
LOCATION:
SUMMARY:RHGH Literacy class – all welcome!
END:VEVENT
END:VCALENDAR
