BEGIN:VCALENDAR
VERSION:2.0
PRODID:-//www.thearcofsomerset.org//NONSGML kigkonsult.se iCalcreator 2.30.
 10//
CALSCALE:GREGORIAN
METHOD:PUBLISH
UID:02ec8942-9184-4978-84c3-d078f5d6e2dc
X-WR-CALDESC:
X-WR-RELCALID:4171ef6d7580181fba1dd61674b5f2b8
X-WR-TIMEZONE:America/New_York
BEGIN:VTIMEZONE
TZID:America/New_York
BEGIN:STANDARD
TZNAME:EST
DTSTART:20201101T020000
TZOFFSETFROM:-0400
TZOFFSETTO:-0500
RDATE:20211107T020000
END:STANDARD
BEGIN:DAYLIGHT
TZNAME:EDT
DTSTART:20210314T020000
TZOFFSETFROM:-0500
TZOFFSETTO:-0400
RDATE:20220313T020000
END:DAYLIGHT
END:VTIMEZONE
BEGIN:VEVENT
UID:1c2433d3-f17c-4e91-a4c8-9cee6e869f23
DTSTAMP:20260425T235800Z
DESCRIPTION:
DTSTART;TZID=America/New_York:20210414T130000
DTEND;TZID=America/New_York:20210414T133000
LOCATION:
SUMMARY:30 Minute Mystery
END:VEVENT
END:VCALENDAR
