BEGIN:VCALENDAR
VERSION:2.0
PRODID:-//www.thearcofsomerset.org//NONSGML kigkonsult.se iCalcreator 2.30.
 10//
CALSCALE:GREGORIAN
METHOD:PUBLISH
UID:9cd7feee-74f7-4a77-9164-fff71ee65c8c
X-WR-CALDESC:
X-WR-RELCALID:46857dd0d1aed71b4bc5210572fbd9e0
X-WR-TIMEZONE:America/New_York
BEGIN:VTIMEZONE
TZID:America/New_York
BEGIN:STANDARD
TZNAME:EST
DTSTART:20201101T020000
TZOFFSETFROM:-0400
TZOFFSETTO:-0500
RDATE:20211107T020000
END:STANDARD
BEGIN:DAYLIGHT
TZNAME:EDT
DTSTART:20210314T020000
TZOFFSETFROM:-0500
TZOFFSETTO:-0400
RDATE:20220313T020000
END:DAYLIGHT
END:VTIMEZONE
BEGIN:VEVENT
UID:1c268d95-9df8-4654-bee3-61529e6817b2
DTSTAMP:20260425T235715Z
DESCRIPTION:
DTSTART;TZID=America/New_York:20210414T101500
DTEND;TZID=America/New_York:20210414T104500
LOCATION:
SUMMARY:Exercise with Friends
END:VEVENT
END:VCALENDAR
