BEGIN:VCALENDAR
VERSION:2.0
PRODID:-//www.thearcofsomerset.org//NONSGML kigkonsult.se iCalcreator 2.30.
 10//
CALSCALE:GREGORIAN
METHOD:PUBLISH
UID:331f24eb-055c-4dbb-8fa9-1ad3c2ae9d7f
X-WR-CALDESC:
X-WR-RELCALID:995b7d4b6610d5a483123d62aa626653
X-WR-TIMEZONE:America/New_York
BEGIN:VTIMEZONE
TZID:America/New_York
BEGIN:STANDARD
TZNAME:EST
DTSTART:20201101T020000
TZOFFSETFROM:-0400
TZOFFSETTO:-0500
RDATE:20211107T020000
END:STANDARD
BEGIN:DAYLIGHT
TZNAME:EDT
DTSTART:20210314T020000
TZOFFSETFROM:-0500
TZOFFSETTO:-0400
RDATE:20220313T020000
END:DAYLIGHT
END:VTIMEZONE
BEGIN:VEVENT
UID:185a6757-ecc4-4dd1-a8b5-5d4c1fff48b2
DTSTAMP:20260425T235913Z
DESCRIPTION:
DTSTART;TZID=America/New_York:20210414T111500
DTEND;TZID=America/New_York:20210414T114500
LOCATION:
SUMMARY:SGH Literacy class – all welcome!
END:VEVENT
END:VCALENDAR
