BEGIN:VCALENDAR
VERSION:2.0
PRODID:-//www.thearcofsomerset.org//NONSGML kigkonsult.se iCalcreator 2.30.
 10//
CALSCALE:GREGORIAN
METHOD:PUBLISH
UID:87e9ba2b-1598-464d-b81e-5aaaf4636fe3
X-WR-CALDESC:
X-WR-RELCALID:f1eda39e333e7380d3686d72c2abd524
X-WR-TIMEZONE:America/New_York
BEGIN:VTIMEZONE
TZID:America/New_York
BEGIN:STANDARD
TZNAME:EST
DTSTART:20201101T020000
TZOFFSETFROM:-0400
TZOFFSETTO:-0500
RDATE:20211107T020000
END:STANDARD
BEGIN:DAYLIGHT
TZNAME:EDT
DTSTART:20210314T020000
TZOFFSETFROM:-0500
TZOFFSETTO:-0400
RDATE:20220313T020000
END:DAYLIGHT
END:VTIMEZONE
BEGIN:VEVENT
UID:a854594c-3dad-430e-9d63-19bb1f0502bc
DTSTAMP:20260426T000803Z
DESCRIPTION:
DTSTART;TZID=America/New_York:20210415T150000
DTEND;TZID=America/New_York:20210415T153000
LOCATION:
SUMMARY:“Hot TopiX” – Ann’s Animals and Special Raffle!
END:VEVENT
END:VCALENDAR
