BEGIN:VCALENDAR
VERSION:2.0
PRODID:-//www.thearcofsomerset.org//NONSGML kigkonsult.se iCalcreator 2.30.
 10//
CALSCALE:GREGORIAN
METHOD:PUBLISH
UID:9eee635d-63e3-42b4-bad1-48b2ef1810be
X-WR-CALDESC:
X-WR-RELCALID:8f532e72739bf085c2942a4704677c5c
X-WR-TIMEZONE:America/New_York
BEGIN:VTIMEZONE
TZID:America/New_York
BEGIN:STANDARD
TZNAME:EST
DTSTART:20201101T020000
TZOFFSETFROM:-0400
TZOFFSETTO:-0500
RDATE:20211107T020000
END:STANDARD
BEGIN:DAYLIGHT
TZNAME:EDT
DTSTART:20210314T020000
TZOFFSETFROM:-0500
TZOFFSETTO:-0400
RDATE:20220313T020000
END:DAYLIGHT
END:VTIMEZONE
BEGIN:VEVENT
UID:1ea4761c-fad1-4fcc-90f6-230a69da4e84
DTSTAMP:20260426T000803Z
DESCRIPTION:
DTSTART;TZID=America/New_York:20210415T130000
DTEND;TZID=America/New_York:20210415T133000
LOCATION:
SUMMARY:“Music for Hope and Inspiration” -  TBD
END:VEVENT
END:VCALENDAR
