BEGIN:VCALENDAR
VERSION:2.0
PRODID:-//www.thearcofsomerset.org//NONSGML kigkonsult.se iCalcreator 2.30.
 10//
CALSCALE:GREGORIAN
METHOD:PUBLISH
UID:5d8cc07d-2ba7-4800-8d58-fd14e9570a0a
X-WR-CALDESC:
X-WR-RELCALID:228bac2da968729f795202a280362f0f
X-WR-TIMEZONE:America/New_York
BEGIN:VTIMEZONE
TZID:America/New_York
BEGIN:STANDARD
TZNAME:EST
DTSTART:20201101T020000
TZOFFSETFROM:-0400
TZOFFSETTO:-0500
RDATE:20211107T020000
END:STANDARD
BEGIN:DAYLIGHT
TZNAME:EDT
DTSTART:20210314T020000
TZOFFSETFROM:-0500
TZOFFSETTO:-0400
RDATE:20220313T020000
END:DAYLIGHT
END:VTIMEZONE
BEGIN:VEVENT
UID:bc263ffc-30e0-4f45-92ed-a822c2a922f8
DTSTAMP:20260425T235800Z
DESCRIPTION:
DTSTART;TZID=America/New_York:20210415T100000
DTEND;TZID=America/New_York:20210415T103000
LOCATION:
SUMMARY:Literacy class (Ardsley) –  everyone welcome
END:VEVENT
END:VCALENDAR
