BEGIN:VCALENDAR
VERSION:2.0
PRODID:-//www.thearcofsomerset.org//NONSGML kigkonsult.se iCalcreator 2.30.
 10//
CALSCALE:GREGORIAN
METHOD:PUBLISH
UID:4c64c85e-b19f-40d7-822d-75992ea49658
X-WR-CALDESC:
X-WR-RELCALID:b87919e1f5ca98734a33f5ecf00e20e4
X-WR-TIMEZONE:America/New_York
BEGIN:VTIMEZONE
TZID:America/New_York
BEGIN:STANDARD
TZNAME:EST
DTSTART:20201101T020000
TZOFFSETFROM:-0400
TZOFFSETTO:-0500
RDATE:20211107T020000
END:STANDARD
BEGIN:DAYLIGHT
TZNAME:EDT
DTSTART:20210314T020000
TZOFFSETFROM:-0500
TZOFFSETTO:-0400
RDATE:20220313T020000
END:DAYLIGHT
END:VTIMEZONE
BEGIN:VEVENT
UID:3d8499ff-0fb5-43c5-b52b-7d653b2304c3
DTSTAMP:20260426T000121Z
DESCRIPTION:
DTSTART;TZID=America/New_York:20210415T111500
DTEND;TZID=America/New_York:20210415T234500
LOCATION:
SUMMARY:Literacy class (Cambridge)-  everyone welcome!
END:VEVENT
END:VCALENDAR
