BEGIN:VCALENDAR
VERSION:2.0
PRODID:-//www.thearcofsomerset.org//NONSGML kigkonsult.se iCalcreator 2.30.
 10//
CALSCALE:GREGORIAN
METHOD:PUBLISH
UID:7abf627f-393b-467e-8f86-5b9d00b4800f
X-WR-CALDESC:
X-WR-RELCALID:a2d1fcfcd0564e1adc19cc0f87faaed9
X-WR-TIMEZONE:America/New_York
BEGIN:VTIMEZONE
TZID:America/New_York
BEGIN:STANDARD
TZNAME:EST
DTSTART:20201101T020000
TZOFFSETFROM:-0400
TZOFFSETTO:-0500
RDATE:20211107T020000
END:STANDARD
BEGIN:DAYLIGHT
TZNAME:EDT
DTSTART:20210314T020000
TZOFFSETFROM:-0500
TZOFFSETTO:-0400
RDATE:20220313T020000
END:DAYLIGHT
END:VTIMEZONE
BEGIN:VEVENT
UID:b4550c2f-4b3c-47a6-aacf-7d572b8ef4b7
DTSTAMP:20260426T000637Z
DESCRIPTION:
DTSTART;TZID=America/New_York:20210416T150000
DTEND;TZID=America/New_York:20210416T153000
LOCATION:
SUMMARY:Advocacy General Meeting
END:VEVENT
END:VCALENDAR
