BEGIN:VCALENDAR
VERSION:2.0
PRODID:-//www.thearcofsomerset.org//NONSGML kigkonsult.se iCalcreator 2.30.
 10//
CALSCALE:GREGORIAN
METHOD:PUBLISH
UID:b3fe0a07-d1ae-4cb2-9a0f-bd81b3909f0a
X-WR-CALDESC:
X-WR-RELCALID:b6b34f16023f9f2bf6fff25b298390a7
X-WR-TIMEZONE:America/New_York
BEGIN:VTIMEZONE
TZID:America/New_York
BEGIN:STANDARD
TZNAME:EST
DTSTART:20201101T020000
TZOFFSETFROM:-0400
TZOFFSETTO:-0500
RDATE:20211107T020000
END:STANDARD
BEGIN:DAYLIGHT
TZNAME:EDT
DTSTART:20210314T020000
TZOFFSETFROM:-0500
TZOFFSETTO:-0400
RDATE:20220313T020000
END:DAYLIGHT
END:VTIMEZONE
BEGIN:VEVENT
UID:ac88b163-166c-40f7-b2fc-bf025a369a03
DTSTAMP:20260425T235754Z
DESCRIPTION:
DTSTART;TZID=America/New_York:20210416T100000
DTEND;TZID=America/New_York:20210416T103000
LOCATION:
SUMMARY:Bingo with Mary
END:VEVENT
END:VCALENDAR
