BEGIN:VCALENDAR
VERSION:2.0
PRODID:-//www.thearcofsomerset.org//NONSGML kigkonsult.se iCalcreator 2.30.
 10//
CALSCALE:GREGORIAN
METHOD:PUBLISH
UID:1f0ca3b2-b4c1-49bf-a042-b4c0ae47895e
X-WR-CALDESC:
X-WR-RELCALID:59335174c02d65c7fafc372b8c12bbaf
X-WR-TIMEZONE:America/New_York
BEGIN:VTIMEZONE
TZID:America/New_York
BEGIN:STANDARD
TZNAME:EST
DTSTART:20201101T020000
TZOFFSETFROM:-0400
TZOFFSETTO:-0500
RDATE:20211107T020000
END:STANDARD
BEGIN:DAYLIGHT
TZNAME:EDT
DTSTART:20210314T020000
TZOFFSETFROM:-0500
TZOFFSETTO:-0400
RDATE:20220313T020000
END:DAYLIGHT
END:VTIMEZONE
BEGIN:VEVENT
UID:47e63061-7d52-416e-af66-7d6e74603235
DTSTAMP:20260425T235714Z
DESCRIPTION:
DTSTART;TZID=America/New_York:20210416T110000
DTEND;TZID=America/New_York:20210416T113000
LOCATION:
SUMMARY:Exercise with Friends
END:VEVENT
END:VCALENDAR
