BEGIN:VCALENDAR
VERSION:2.0
PRODID:-//www.thearcofsomerset.org//NONSGML kigkonsult.se iCalcreator 2.30.
 10//
CALSCALE:GREGORIAN
METHOD:PUBLISH
UID:e924d3b0-4614-4707-a4db-5d96a44d0ff5
X-WR-CALDESC:
X-WR-RELCALID:13f7198a9097e403d28adacc21ff41d0
X-WR-TIMEZONE:America/New_York
BEGIN:VTIMEZONE
TZID:America/New_York
BEGIN:STANDARD
TZNAME:EST
DTSTART:20201101T020000
TZOFFSETFROM:-0400
TZOFFSETTO:-0500
RDATE:20211107T020000
END:STANDARD
BEGIN:DAYLIGHT
TZNAME:EDT
DTSTART:20210314T020000
TZOFFSETFROM:-0500
TZOFFSETTO:-0400
RDATE:20220313T020000
END:DAYLIGHT
END:VTIMEZONE
BEGIN:VEVENT
UID:8157f4ae-fee6-45a4-9319-a1a796ce72a2
DTSTAMP:20260426T000121Z
DESCRIPTION:
DTSTART;TZID=America/New_York:20210416T140000
DTEND;TZID=America/New_York:20210416T143000
LOCATION:
SUMMARY:Literacy class (Claremont) –  everyone welcome!
END:VEVENT
END:VCALENDAR
