BEGIN:VCALENDAR
VERSION:2.0
PRODID:-//www.thearcofsomerset.org//NONSGML kigkonsult.se iCalcreator 2.30.
 10//
CALSCALE:GREGORIAN
METHOD:PUBLISH
UID:e2205034-261b-4a61-be18-ce33a2912151
X-WR-CALDESC:
X-WR-RELCALID:22c61c23aaab5a439a83384ff4c7915c
X-WR-TIMEZONE:America/New_York
BEGIN:VTIMEZONE
TZID:America/New_York
BEGIN:STANDARD
TZNAME:EST
DTSTART:20201101T020000
TZOFFSETFROM:-0400
TZOFFSETTO:-0500
RDATE:20211107T020000
END:STANDARD
BEGIN:DAYLIGHT
TZNAME:EDT
DTSTART:20210314T020000
TZOFFSETFROM:-0500
TZOFFSETTO:-0400
RDATE:20220313T020000
END:DAYLIGHT
END:VTIMEZONE
BEGIN:VEVENT
UID:d0575028-ffbc-458d-8c92-14134b0862df
DTSTAMP:20260425T235837Z
DESCRIPTION:
DTSTART;TZID=America/New_York:20210416T130000
DTEND;TZID=America/New_York:20210416T133000
LOCATION:
SUMMARY:Literacy class (Commons 1) -everyone welcome!
END:VEVENT
END:VCALENDAR
