BEGIN:VCALENDAR
VERSION:2.0
PRODID:-//www.thearcofsomerset.org//NONSGML kigkonsult.se iCalcreator 2.30.
 10//
CALSCALE:GREGORIAN
METHOD:PUBLISH
UID:cfe946a6-602b-478c-ad6c-7fcd1f533757
X-WR-CALDESC:
X-WR-RELCALID:4111a780826a77324bae7fbf560d2225
X-WR-TIMEZONE:America/New_York
BEGIN:VTIMEZONE
TZID:America/New_York
BEGIN:STANDARD
TZNAME:EST
DTSTART:20201101T020000
TZOFFSETFROM:-0400
TZOFFSETTO:-0500
RDATE:20211107T020000
END:STANDARD
BEGIN:DAYLIGHT
TZNAME:EDT
DTSTART:20210314T020000
TZOFFSETFROM:-0500
TZOFFSETTO:-0400
RDATE:20220313T020000
END:DAYLIGHT
END:VTIMEZONE
BEGIN:VEVENT
UID:eae93954-570f-4780-9fac-c4134c6e3e65
DTSTAMP:20260425T235913Z
DESCRIPTION:
DTSTART;TZID=America/New_York:20210419T110000
DTEND;TZID=America/New_York:20210419T113000
LOCATION:
SUMMARY:30 Minute Mystery
END:VEVENT
END:VCALENDAR
