BEGIN:VCALENDAR
VERSION:2.0
PRODID:-//www.thearcofsomerset.org//NONSGML kigkonsult.se iCalcreator 2.30.
 10//
CALSCALE:GREGORIAN
METHOD:PUBLISH
UID:efe5a879-9122-4cc9-94cc-192daa19cb8a
X-WR-CALDESC:
X-WR-RELCALID:a5016b2db5490cbd44287fd67e0e79dc
X-WR-TIMEZONE:America/New_York
BEGIN:VTIMEZONE
TZID:America/New_York
BEGIN:STANDARD
TZNAME:EST
DTSTART:20201101T020000
TZOFFSETFROM:-0400
TZOFFSETTO:-0500
RDATE:20211107T020000
END:STANDARD
BEGIN:DAYLIGHT
TZNAME:EDT
DTSTART:20210314T020000
TZOFFSETFROM:-0500
TZOFFSETTO:-0400
RDATE:20220313T020000
END:DAYLIGHT
END:VTIMEZONE
BEGIN:VEVENT
UID:bd04f906-f9d6-4e43-b8f8-84ab68128773
DTSTAMP:20260425T235713Z
DESCRIPTION:
DTSTART;TZID=America/New_York:20210419T140000
DTEND;TZID=America/New_York:20210419T143000
LOCATION:
SUMMARY:Art with Tonya
END:VEVENT
END:VCALENDAR
