BEGIN:VCALENDAR
VERSION:2.0
PRODID:-//www.thearcofsomerset.org//NONSGML kigkonsult.se iCalcreator 2.30.
 10//
CALSCALE:GREGORIAN
METHOD:PUBLISH
UID:c411b247-c073-4b6c-bc8b-8a7a1eeff592
X-WR-CALDESC:
X-WR-RELCALID:cb42d2cd68076ebb1f6d8dc2f53bec14
X-WR-TIMEZONE:America/New_York
BEGIN:VTIMEZONE
TZID:America/New_York
BEGIN:STANDARD
TZNAME:EST
DTSTART:20201101T020000
TZOFFSETFROM:-0400
TZOFFSETTO:-0500
RDATE:20211107T020000
END:STANDARD
BEGIN:DAYLIGHT
TZNAME:EDT
DTSTART:20210314T020000
TZOFFSETFROM:-0500
TZOFFSETTO:-0400
RDATE:20220313T020000
END:DAYLIGHT
END:VTIMEZONE
BEGIN:VEVENT
UID:4d814daf-4ab8-4728-b4f4-77da399cb6bf
DTSTAMP:20260426T001023Z
DESCRIPTION:
DTSTART;TZID=America/New_York:20210420T130000
DTEND;TZID=America/New_York:20210420T133000
LOCATION:
SUMMARY:“Music for Hope and Inspiration”  Guest Musician: Coffeehouse Proje
 ct
END:VEVENT
END:VCALENDAR
