BEGIN:VCALENDAR
VERSION:2.0
PRODID:-//www.thearcofsomerset.org//NONSGML kigkonsult.se iCalcreator 2.30.
 10//
CALSCALE:GREGORIAN
METHOD:PUBLISH
UID:32356d9f-c257-4cb5-97ff-3e35713c7a46
X-WR-CALDESC:
X-WR-RELCALID:74e98fc5982aff4447ff5bdcec4f96ea
X-WR-TIMEZONE:America/New_York
BEGIN:VTIMEZONE
TZID:America/New_York
BEGIN:STANDARD
TZNAME:EST
DTSTART:20201101T020000
TZOFFSETFROM:-0400
TZOFFSETTO:-0500
RDATE:20211107T020000
END:STANDARD
BEGIN:DAYLIGHT
TZNAME:EDT
DTSTART:20210314T020000
TZOFFSETFROM:-0500
TZOFFSETTO:-0400
RDATE:20220313T020000
END:DAYLIGHT
END:VTIMEZONE
BEGIN:VEVENT
UID:5ece15f0-126b-4625-8e12-be970e112afd
DTSTAMP:20260425T235945Z
DESCRIPTION:
DTSTART;TZID=America/New_York:20210420T103000
DTEND;TZID=America/New_York:20210420T110000
LOCATION:
SUMMARY:Literacy class (Griggstown) everyone welcome!
END:VEVENT
END:VCALENDAR
