BEGIN:VCALENDAR
VERSION:2.0
PRODID:-//www.thearcofsomerset.org//NONSGML kigkonsult.se iCalcreator 2.30.
 10//
CALSCALE:GREGORIAN
METHOD:PUBLISH
UID:2c8e8972-eca6-4716-8149-cce5355529ec
X-WR-CALDESC:
X-WR-RELCALID:2b521eb818babf36fca44cedd4ec632c
X-WR-TIMEZONE:America/New_York
BEGIN:VTIMEZONE
TZID:America/New_York
BEGIN:STANDARD
TZNAME:EST
DTSTART:20201101T020000
TZOFFSETFROM:-0400
TZOFFSETTO:-0500
RDATE:20211107T020000
END:STANDARD
BEGIN:DAYLIGHT
TZNAME:EDT
DTSTART:20210314T020000
TZOFFSETFROM:-0500
TZOFFSETTO:-0400
RDATE:20220313T020000
END:DAYLIGHT
END:VTIMEZONE
BEGIN:VEVENT
UID:f82364d8-34c8-4d1b-af6b-4ec6dde31c01
DTSTAMP:20260425T235944Z
DESCRIPTION:
DTSTART;TZID=America/New_York:20210420T130000
DTEND;TZID=America/New_York:20210420T133000
LOCATION:
SUMMARY:Literacy class (RHGH)  everyone welcome!
END:VEVENT
END:VCALENDAR
