BEGIN:VCALENDAR
VERSION:2.0
PRODID:-//www.thearcofsomerset.org//NONSGML kigkonsult.se iCalcreator 2.30.
 10//
CALSCALE:GREGORIAN
METHOD:PUBLISH
UID:11f98076-4dc8-40d1-8660-24b031b12513
X-WR-CALDESC:
X-WR-RELCALID:da7c70d6aa0688e09d1a18c6dab54d3d
X-WR-TIMEZONE:America/New_York
BEGIN:VTIMEZONE
TZID:America/New_York
BEGIN:STANDARD
TZNAME:EST
DTSTART:20201101T020000
TZOFFSETFROM:-0400
TZOFFSETTO:-0500
RDATE:20211107T020000
END:STANDARD
BEGIN:DAYLIGHT
TZNAME:EDT
DTSTART:20210314T020000
TZOFFSETFROM:-0500
TZOFFSETTO:-0400
RDATE:20220313T020000
END:DAYLIGHT
END:VTIMEZONE
BEGIN:VEVENT
UID:5e13511f-2e30-4831-9e4f-2f0287847495
DTSTAMP:20260425T235939Z
DESCRIPTION:
DTSTART;TZID=America/New_York:20210420T140000
DTEND;TZID=America/New_York:20210420T143000
LOCATION:
SUMMARY:Literacy class (UA2) –  everyone welcome!
END:VEVENT
END:VCALENDAR
