BEGIN:VCALENDAR
VERSION:2.0
PRODID:-//www.thearcofsomerset.org//NONSGML kigkonsult.se iCalcreator 2.30.
 10//
CALSCALE:GREGORIAN
METHOD:PUBLISH
UID:f0347644-ba1f-4e9f-989e-43fb11bd6e0f
X-WR-CALDESC:
X-WR-RELCALID:aa4c986b164edb25ef63cf1fae1c567d
X-WR-TIMEZONE:America/New_York
BEGIN:VTIMEZONE
TZID:America/New_York
BEGIN:STANDARD
TZNAME:EST
DTSTART:20201101T020000
TZOFFSETFROM:-0400
TZOFFSETTO:-0500
RDATE:20211107T020000
END:STANDARD
BEGIN:DAYLIGHT
TZNAME:EDT
DTSTART:20210314T020000
TZOFFSETFROM:-0500
TZOFFSETTO:-0400
RDATE:20220313T020000
END:DAYLIGHT
END:VTIMEZONE
BEGIN:VEVENT
UID:a4cc892b-477f-4637-92d6-0de0adb7da72
DTSTAMP:20260425T235721Z
DESCRIPTION:
DTSTART;TZID=America/New_York:20210421T111500
DTEND;TZID=America/New_York:20210421T114500
LOCATION:
SUMMARY:SGH Literacy class – all welcome!
END:VEVENT
END:VCALENDAR
