BEGIN:VCALENDAR
VERSION:2.0
PRODID:-//www.thearcofsomerset.org//NONSGML kigkonsult.se iCalcreator 2.30.
 10//
CALSCALE:GREGORIAN
METHOD:PUBLISH
UID:20a04352-128c-4be7-81dd-0a0efe29ab7d
X-WR-CALDESC:
X-WR-RELCALID:d9ede875d2a1968cef660590dd2f7169
X-WR-TIMEZONE:America/New_York
BEGIN:VTIMEZONE
TZID:America/New_York
BEGIN:STANDARD
TZNAME:EST
DTSTART:20201101T020000
TZOFFSETFROM:-0400
TZOFFSETTO:-0500
RDATE:20211107T020000
END:STANDARD
BEGIN:DAYLIGHT
TZNAME:EDT
DTSTART:20210314T020000
TZOFFSETFROM:-0500
TZOFFSETTO:-0400
RDATE:20220313T020000
END:DAYLIGHT
END:VTIMEZONE
BEGIN:VEVENT
UID:ea741212-6a36-4399-bc12-3c1bc3844ed3
DTSTAMP:20260425T235944Z
DESCRIPTION:
DTSTART;TZID=America/New_York:20210422T101500
DTEND;TZID=America/New_York:20210422T104500
LOCATION:
SUMMARY:“Cool Collections” memorabilia group – TBD
END:VEVENT
END:VCALENDAR
