BEGIN:VCALENDAR
VERSION:2.0
PRODID:-//www.thearcofsomerset.org//NONSGML kigkonsult.se iCalcreator 2.30.
 10//
CALSCALE:GREGORIAN
METHOD:PUBLISH
UID:dd89de63-780a-4966-a80e-0d0950eac0f4
X-WR-CALDESC:
X-WR-RELCALID:648be794d98c0ad864c58364a8941a5b
X-WR-TIMEZONE:America/New_York
BEGIN:VTIMEZONE
TZID:America/New_York
BEGIN:STANDARD
TZNAME:EST
DTSTART:20201101T020000
TZOFFSETFROM:-0400
TZOFFSETTO:-0500
RDATE:20211107T020000
END:STANDARD
BEGIN:DAYLIGHT
TZNAME:EDT
DTSTART:20210314T020000
TZOFFSETFROM:-0500
TZOFFSETTO:-0400
RDATE:20220313T020000
END:DAYLIGHT
END:VTIMEZONE
BEGIN:VEVENT
UID:0aa3b228-8ee1-4cd0-a9d7-1f3f37cf8bc1
DTSTAMP:20260426T000815Z
DESCRIPTION:
DTSTART;TZID=America/New_York:20210422T150000
DTEND;TZID=America/New_York:20210422T153000
LOCATION:
SUMMARY:“Hot TopiX” – Girl Scout Activity with Kay
END:VEVENT
END:VCALENDAR
