BEGIN:VCALENDAR
VERSION:2.0
PRODID:-//www.thearcofsomerset.org//NONSGML kigkonsult.se iCalcreator 2.30.
 10//
CALSCALE:GREGORIAN
METHOD:PUBLISH
UID:855dda5e-b5f1-4e9b-b9b8-4a55e0616051
X-WR-CALDESC:
X-WR-RELCALID:22e4976c147637cd995ac795a8ef3b83
X-WR-TIMEZONE:America/New_York
BEGIN:VTIMEZONE
TZID:America/New_York
BEGIN:STANDARD
TZNAME:EST
DTSTART:20201101T020000
TZOFFSETFROM:-0400
TZOFFSETTO:-0500
RDATE:20211107T020000
END:STANDARD
BEGIN:DAYLIGHT
TZNAME:EDT
DTSTART:20210314T020000
TZOFFSETFROM:-0500
TZOFFSETTO:-0400
RDATE:20220313T020000
END:DAYLIGHT
END:VTIMEZONE
BEGIN:VEVENT
UID:73b14bd3-a286-42cb-b1a5-a2de3c60c202
DTSTAMP:20260426T000947Z
DESCRIPTION:
DTSTART;TZID=America/New_York:20210422T130000
DTEND;TZID=America/New_York:20210422T133000
LOCATION:
SUMMARY:“Music for Hope and Inspiration”-Green Planet Band
END:VEVENT
END:VCALENDAR
