BEGIN:VCALENDAR
VERSION:2.0
PRODID:-//www.thearcofsomerset.org//NONSGML kigkonsult.se iCalcreator 2.30.
 10//
CALSCALE:GREGORIAN
METHOD:PUBLISH
UID:cba2e9cd-f2c6-4894-9b22-84710a61ce7c
X-WR-CALDESC:
X-WR-RELCALID:5166466ad2cb34a194fcb1ced4a74d7b
X-WR-TIMEZONE:America/New_York
BEGIN:VTIMEZONE
TZID:America/New_York
BEGIN:STANDARD
TZNAME:EST
DTSTART:20201101T020000
TZOFFSETFROM:-0400
TZOFFSETTO:-0500
RDATE:20211107T020000
END:STANDARD
BEGIN:DAYLIGHT
TZNAME:EDT
DTSTART:20210314T020000
TZOFFSETFROM:-0500
TZOFFSETTO:-0400
RDATE:20220313T020000
END:DAYLIGHT
END:VTIMEZONE
BEGIN:VEVENT
UID:44f1588e-06ab-49ec-9106-9392a8a21335
DTSTAMP:20260425T235938Z
DESCRIPTION:
DTSTART;TZID=America/New_York:20210422T111500
DTEND;TZID=America/New_York:20210422T114500
LOCATION:
SUMMARY:Literacy class (Cambridge)-everyone welcome!
END:VEVENT
END:VCALENDAR
