BEGIN:VCALENDAR
VERSION:2.0
PRODID:-//www.thearcofsomerset.org//NONSGML kigkonsult.se iCalcreator 2.30.
 10//
CALSCALE:GREGORIAN
METHOD:PUBLISH
UID:317f535b-0416-4b4c-bed6-39cbde5a8a45
X-WR-CALDESC:
X-WR-RELCALID:6c1061ebc41a2a44e644f9ebebce8f97
X-WR-TIMEZONE:America/New_York
BEGIN:VTIMEZONE
TZID:America/New_York
BEGIN:STANDARD
TZNAME:EST
DTSTART:20201101T020000
TZOFFSETFROM:-0400
TZOFFSETTO:-0500
RDATE:20211107T020000
END:STANDARD
BEGIN:DAYLIGHT
TZNAME:EDT
DTSTART:20210314T020000
TZOFFSETFROM:-0500
TZOFFSETTO:-0400
RDATE:20220313T020000
END:DAYLIGHT
END:VTIMEZONE
BEGIN:VEVENT
UID:d2ae3abb-53e0-4138-9a06-01dfa0e74580
DTSTAMP:20260425T235715Z
DESCRIPTION:
DTSTART;TZID=America/New_York:20210423T110000
DTEND;TZID=America/New_York:20210423T113000
LOCATION:
SUMMARY:Exercise with Friends
END:VEVENT
END:VCALENDAR
