BEGIN:VCALENDAR
VERSION:2.0
PRODID:-//www.thearcofsomerset.org//NONSGML kigkonsult.se iCalcreator 2.30.
 10//
CALSCALE:GREGORIAN
METHOD:PUBLISH
UID:3c46924b-7eb7-4c8b-be50-206ee657d67f
X-WR-CALDESC:
X-WR-RELCALID:5bc6102ef3cad83846882046e259542d
X-WR-TIMEZONE:America/New_York
BEGIN:VTIMEZONE
TZID:America/New_York
BEGIN:STANDARD
TZNAME:EST
DTSTART:20201101T020000
TZOFFSETFROM:-0400
TZOFFSETTO:-0500
RDATE:20211107T020000
END:STANDARD
BEGIN:DAYLIGHT
TZNAME:EDT
DTSTART:20210314T020000
TZOFFSETFROM:-0500
TZOFFSETTO:-0400
RDATE:20220313T020000
END:DAYLIGHT
END:VTIMEZONE
BEGIN:VEVENT
UID:6e244d09-dbe8-466d-8e00-c1a30372fe78
DTSTAMP:20260426T000154Z
DESCRIPTION:
DTSTART;TZID=America/New_York:20210423T140000
DTEND;TZID=America/New_York:20210423T143000
LOCATION:
SUMMARY:Literacy class (Claremont) –  everyone welcome!
END:VEVENT
END:VCALENDAR
