BEGIN:VCALENDAR
VERSION:2.0
PRODID:-//www.thearcofsomerset.org//NONSGML kigkonsult.se iCalcreator 2.30.
 10//
CALSCALE:GREGORIAN
METHOD:PUBLISH
UID:8fd94232-40bf-4774-a8df-5f8b155e862e
X-WR-CALDESC:
X-WR-RELCALID:6b7ec8217d83347abf53f76f56f73610
X-WR-TIMEZONE:America/New_York
BEGIN:VTIMEZONE
TZID:America/New_York
BEGIN:STANDARD
TZNAME:EST
DTSTART:20201101T020000
TZOFFSETFROM:-0400
TZOFFSETTO:-0500
RDATE:20211107T020000
END:STANDARD
BEGIN:DAYLIGHT
TZNAME:EDT
DTSTART:20210314T020000
TZOFFSETFROM:-0500
TZOFFSETTO:-0400
RDATE:20220313T020000
END:DAYLIGHT
END:VTIMEZONE
BEGIN:VEVENT
UID:298476f3-f4be-41ff-968e-ef375be5b641
DTSTAMP:20260425T235718Z
DESCRIPTION:
DTSTART;TZID=America/New_York:20210426T140000
DTEND;TZID=America/New_York:20210426T143000
LOCATION:
SUMMARY:Art with Alec
END:VEVENT
END:VCALENDAR
