BEGIN:VCALENDAR
VERSION:2.0
PRODID:-//www.thearcofsomerset.org//NONSGML kigkonsult.se iCalcreator 2.30.
 10//
CALSCALE:GREGORIAN
METHOD:PUBLISH
UID:ec0b8f75-24dc-4221-a52b-e4e9d4a08b31
X-WR-CALDESC:
X-WR-RELCALID:b54ae28b8f84e9e62536800664cd79e1
X-WR-TIMEZONE:America/New_York
BEGIN:VTIMEZONE
TZID:America/New_York
BEGIN:STANDARD
TZNAME:EST
DTSTART:20201101T020000
TZOFFSETFROM:-0400
TZOFFSETTO:-0500
RDATE:20211107T020000
END:STANDARD
BEGIN:DAYLIGHT
TZNAME:EDT
DTSTART:20210314T020000
TZOFFSETFROM:-0500
TZOFFSETTO:-0400
RDATE:20220313T020000
END:DAYLIGHT
END:VTIMEZONE
BEGIN:VEVENT
UID:82419e82-c9d8-4254-b3f1-8cba22bc1845
DTSTAMP:20260426T000815Z
DESCRIPTION:
DTSTART;TZID=America/New_York:20210426T130000
DTEND;TZID=America/New_York:20210426T133000
LOCATION:
SUMMARY:Royal School of Yoga
END:VEVENT
END:VCALENDAR
