BEGIN:VCALENDAR
VERSION:2.0
PRODID:-//www.thearcofsomerset.org//NONSGML kigkonsult.se iCalcreator 2.30.
 10//
CALSCALE:GREGORIAN
METHOD:PUBLISH
UID:98c0b305-c8c6-44b0-bddd-3c74d28a71f9
X-WR-CALDESC:
X-WR-RELCALID:92a77c569b0cc76be5d2ba3306dcd017
X-WR-TIMEZONE:America/New_York
BEGIN:VTIMEZONE
TZID:America/New_York
BEGIN:STANDARD
TZNAME:EST
DTSTART:20201101T020000
TZOFFSETFROM:-0400
TZOFFSETTO:-0500
RDATE:20211107T020000
END:STANDARD
BEGIN:DAYLIGHT
TZNAME:EDT
DTSTART:20210314T020000
TZOFFSETFROM:-0500
TZOFFSETTO:-0400
RDATE:20220313T020000
END:DAYLIGHT
END:VTIMEZONE
BEGIN:VEVENT
UID:0866c434-a7c4-4ed9-8c5b-e2c4aac4fd82
DTSTAMP:20260425T235939Z
DESCRIPTION:
DTSTART;TZID=America/New_York:20210427T150000
DTEND;TZID=America/New_York:20210427T153000
LOCATION:
SUMMARY:“Hot TopiX” – Pictionary!
END:VEVENT
END:VCALENDAR
