BEGIN:VCALENDAR
VERSION:2.0
PRODID:-//www.thearcofsomerset.org//NONSGML kigkonsult.se iCalcreator 2.30.
 10//
CALSCALE:GREGORIAN
METHOD:PUBLISH
UID:48571b36-4fc1-4308-9ad8-6b267d1d2c08
X-WR-CALDESC:
X-WR-RELCALID:2ece74bef05932d88eaad360260ee8cc
X-WR-TIMEZONE:America/New_York
BEGIN:VTIMEZONE
TZID:America/New_York
BEGIN:STANDARD
TZNAME:EST
DTSTART:20201101T020000
TZOFFSETFROM:-0400
TZOFFSETTO:-0500
RDATE:20211107T020000
END:STANDARD
BEGIN:DAYLIGHT
TZNAME:EDT
DTSTART:20210314T020000
TZOFFSETFROM:-0500
TZOFFSETTO:-0400
RDATE:20220313T020000
END:DAYLIGHT
END:VTIMEZONE
BEGIN:VEVENT
UID:e8d1b194-dfad-467c-8df6-dbb5779ab288
DTSTAMP:20260426T001110Z
DESCRIPTION:
DTSTART;TZID=America/New_York:20210427T130000
DTEND;TZID=America/New_York:20210427T133000
LOCATION:
SUMMARY:“Music for Hope and Inspiration”  Guest Musician: Vinnie and his ma
 ny musical instruments!
END:VEVENT
END:VCALENDAR
