BEGIN:VCALENDAR
VERSION:2.0
PRODID:-//www.thearcofsomerset.org//NONSGML kigkonsult.se iCalcreator 2.30.
 10//
CALSCALE:GREGORIAN
METHOD:PUBLISH
UID:e45d3c42-13c8-483b-940c-47b4cd550d58
X-WR-CALDESC:
X-WR-RELCALID:7b49666086d1cf8ef72f7a4f93a2c1ef
X-WR-TIMEZONE:America/New_York
BEGIN:VTIMEZONE
TZID:America/New_York
BEGIN:STANDARD
TZNAME:EST
DTSTART:20201101T020000
TZOFFSETFROM:-0400
TZOFFSETTO:-0500
RDATE:20211107T020000
END:STANDARD
BEGIN:DAYLIGHT
TZNAME:EDT
DTSTART:20210314T020000
TZOFFSETFROM:-0500
TZOFFSETTO:-0400
RDATE:20220313T020000
END:DAYLIGHT
END:VTIMEZONE
BEGIN:VEVENT
UID:e4df57b8-5e35-48ad-9f17-34c9cc178cbd
DTSTAMP:20260425T235944Z
DESCRIPTION:
DTSTART;TZID=America/New_York:20210427T130000
DTEND;TZID=America/New_York:20210427T133000
LOCATION:
SUMMARY:Literacy class (RHGH)  everyone welcome!
END:VEVENT
END:VCALENDAR
