BEGIN:VCALENDAR
VERSION:2.0
PRODID:-//www.thearcofsomerset.org//NONSGML kigkonsult.se iCalcreator 2.30.
 10//
CALSCALE:GREGORIAN
METHOD:PUBLISH
UID:5ba0d922-afd2-4fd4-b1f5-9a037a155e80
X-WR-CALDESC:
X-WR-RELCALID:103aa0efb7eea903c2a176f91920f94e
X-WR-TIMEZONE:America/New_York
BEGIN:VTIMEZONE
TZID:America/New_York
BEGIN:STANDARD
TZNAME:EST
DTSTART:20201101T020000
TZOFFSETFROM:-0400
TZOFFSETTO:-0500
RDATE:20211107T020000
END:STANDARD
BEGIN:DAYLIGHT
TZNAME:EDT
DTSTART:20210314T020000
TZOFFSETFROM:-0500
TZOFFSETTO:-0400
RDATE:20220313T020000
END:DAYLIGHT
END:VTIMEZONE
BEGIN:VEVENT
UID:90b7a952-d619-4569-a6f0-5edaea5513e5
DTSTAMP:20260425T235938Z
DESCRIPTION:
DTSTART;TZID=America/New_York:20210427T140000
DTEND;TZID=America/New_York:20210427T143000
LOCATION:
SUMMARY:Literacy class (UA2) –  everyone welcome!
END:VEVENT
END:VCALENDAR
