BEGIN:VCALENDAR
VERSION:2.0
PRODID:-//www.thearcofsomerset.org//NONSGML kigkonsult.se iCalcreator 2.30.
 10//
CALSCALE:GREGORIAN
METHOD:PUBLISH
UID:331c6d8f-befc-4b99-a069-7a6e225b7bd0
X-WR-CALDESC:
X-WR-RELCALID:913b1842144c97fc2c37d401c34caa57
X-WR-TIMEZONE:America/New_York
BEGIN:VTIMEZONE
TZID:America/New_York
BEGIN:STANDARD
TZNAME:EST
DTSTART:20201101T020000
TZOFFSETFROM:-0400
TZOFFSETTO:-0500
RDATE:20211107T020000
END:STANDARD
BEGIN:DAYLIGHT
TZNAME:EDT
DTSTART:20210314T020000
TZOFFSETFROM:-0500
TZOFFSETTO:-0400
RDATE:20220313T020000
END:DAYLIGHT
END:VTIMEZONE
BEGIN:VEVENT
UID:90cd2e6b-f25e-4a18-8a63-72a1ddc751c3
DTSTAMP:20260425T235715Z
DESCRIPTION:
DTSTART;TZID=America/New_York:20210428T101500
DTEND;TZID=America/New_York:20210428T104500
LOCATION:
SUMMARY:Exercise with Friends
END:VEVENT
END:VCALENDAR
