BEGIN:VCALENDAR
VERSION:2.0
PRODID:-//www.thearcofsomerset.org//NONSGML kigkonsult.se iCalcreator 2.30.
 10//
CALSCALE:GREGORIAN
METHOD:PUBLISH
UID:91c6667d-9cb9-467b-990e-e7236e72de17
X-WR-CALDESC:
X-WR-RELCALID:fd9b129f071c8a2c9206f2d6b27e4860
X-WR-TIMEZONE:America/New_York
BEGIN:VTIMEZONE
TZID:America/New_York
BEGIN:STANDARD
TZNAME:EST
DTSTART:20201101T020000
TZOFFSETFROM:-0400
TZOFFSETTO:-0500
RDATE:20211107T020000
END:STANDARD
BEGIN:DAYLIGHT
TZNAME:EDT
DTSTART:20210314T020000
TZOFFSETFROM:-0500
TZOFFSETTO:-0400
RDATE:20220313T020000
END:DAYLIGHT
END:VTIMEZONE
BEGIN:VEVENT
UID:711bb1ae-b0c9-452a-bdb6-f173b7637690
DTSTAMP:20260425T235938Z
DESCRIPTION:
DTSTART;TZID=America/New_York:20210429T111500
DTEND;TZID=America/New_York:20210429T114500
LOCATION:
SUMMARY:Literacy class (Cambridge)-  everyone welcome!
END:VEVENT
END:VCALENDAR
