BEGIN:VCALENDAR
VERSION:2.0
PRODID:-//www.thearcofsomerset.org//NONSGML kigkonsult.se iCalcreator 2.30.
 10//
CALSCALE:GREGORIAN
METHOD:PUBLISH
UID:82acec04-3eea-4eb2-81f2-a32671992041
X-WR-CALDESC:
X-WR-RELCALID:1800ddcfcc8416de3f4b150a12928a63
X-WR-TIMEZONE:America/New_York
BEGIN:VTIMEZONE
TZID:America/New_York
BEGIN:STANDARD
TZNAME:EST
DTSTART:20201101T020000
TZOFFSETFROM:-0400
TZOFFSETTO:-0500
RDATE:20211107T020000
END:STANDARD
BEGIN:DAYLIGHT
TZNAME:EDT
DTSTART:20210314T020000
TZOFFSETFROM:-0500
TZOFFSETTO:-0400
RDATE:20220313T020000
END:DAYLIGHT
END:VTIMEZONE
BEGIN:VEVENT
UID:54bc8c4e-4985-4a9d-b028-348e56e5e789
DTSTAMP:20260425T235836Z
DESCRIPTION:
DTSTART;TZID=America/New_York:20210430T130000
DTEND;TZID=America/New_York:20210430T133000
LOCATION:
SUMMARY:Literacy class (Commons 1) -  everyone welcome!
END:VEVENT
END:VCALENDAR
