BEGIN:VCALENDAR
VERSION:2.0
PRODID:-//www.thearcofsomerset.org//NONSGML kigkonsult.se iCalcreator 2.30.
 10//
CALSCALE:GREGORIAN
METHOD:PUBLISH
UID:5a245c49-8fff-4bcf-b934-7eb86327ef4f
X-WR-CALDESC:
X-WR-RELCALID:e81bb9d14eaa622d02d2b0c8970b6c93
X-WR-TIMEZONE:America/New_York
BEGIN:VTIMEZONE
TZID:America/New_York
BEGIN:STANDARD
TZNAME:EST
DTSTART:20201101T020000
TZOFFSETFROM:-0400
TZOFFSETTO:-0500
RDATE:20211107T020000
END:STANDARD
BEGIN:DAYLIGHT
TZNAME:EDT
DTSTART:20210314T020000
TZOFFSETFROM:-0500
TZOFFSETTO:-0400
RDATE:20220313T020000
END:DAYLIGHT
END:VTIMEZONE
BEGIN:VEVENT
UID:1e1769fe-387f-4535-a955-3b9da3cdd4f8
DTSTAMP:20260425T223118Z
DESCRIPTION:
DTSTART;TZID=America/New_York:20210503T110000
DTEND;TZID=America/New_York:20210503T113000
LOCATION:
SUMMARY:30 Minute Mystery
END:VEVENT
END:VCALENDAR
