BEGIN:VCALENDAR
VERSION:2.0
PRODID:-//www.thearcofsomerset.org//NONSGML kigkonsult.se iCalcreator 2.30.
 10//
CALSCALE:GREGORIAN
METHOD:PUBLISH
UID:0790fcca-8a99-458c-bda2-14f7f435d4f0
X-WR-CALDESC:
X-WR-RELCALID:ed419afe3029b06b26e8d9a47e9aeb61
X-WR-TIMEZONE:America/New_York
BEGIN:VTIMEZONE
TZID:America/New_York
BEGIN:STANDARD
TZNAME:EST
DTSTART:20201101T020000
TZOFFSETFROM:-0400
TZOFFSETTO:-0500
RDATE:20211107T020000
END:STANDARD
BEGIN:DAYLIGHT
TZNAME:EDT
DTSTART:20210314T020000
TZOFFSETFROM:-0500
TZOFFSETTO:-0400
RDATE:20220313T020000
END:DAYLIGHT
END:VTIMEZONE
BEGIN:VEVENT
UID:c58677ec-2d01-44d3-b85f-bafd6e952fe9
DTSTAMP:20260425T224148Z
DESCRIPTION:
DTSTART;TZID=America/New_York:20210503T130000
DTEND;TZID=America/New_York:20210503T133000
LOCATION:
SUMMARY:Royal School of Yoga
END:VEVENT
END:VCALENDAR
