BEGIN:VCALENDAR
VERSION:2.0
PRODID:-//www.thearcofsomerset.org//NONSGML kigkonsult.se iCalcreator 2.30.
 10//
CALSCALE:GREGORIAN
METHOD:PUBLISH
UID:9e5f5de9-50aa-4f61-aa2a-de3d02414bf1
X-WR-CALDESC:
X-WR-RELCALID:ede60fe0226e09211f344e4e9a9259a1
X-WR-TIMEZONE:America/New_York
BEGIN:VTIMEZONE
TZID:America/New_York
BEGIN:STANDARD
TZNAME:EST
DTSTART:20201101T020000
TZOFFSETFROM:-0400
TZOFFSETTO:-0500
RDATE:20211107T020000
END:STANDARD
BEGIN:DAYLIGHT
TZNAME:EDT
DTSTART:20210314T020000
TZOFFSETFROM:-0500
TZOFFSETTO:-0400
RDATE:20220313T020000
END:DAYLIGHT
END:VTIMEZONE
BEGIN:VEVENT
UID:75c54135-a0bf-4f5b-abd7-cfdf1903c227
DTSTAMP:20260425T224400Z
DESCRIPTION:
DTSTART;TZID=America/New_York:20210504T130000
DTEND;TZID=America/New_York:20210504T133000
LOCATION:
SUMMARY:“Music for Hope and Inspiration”                      Guest Musicia
 n: Piano sing-along with Karen!
END:VEVENT
END:VCALENDAR
