BEGIN:VCALENDAR
VERSION:2.0
PRODID:-//www.thearcofsomerset.org//NONSGML kigkonsult.se iCalcreator 2.30.
 10//
CALSCALE:GREGORIAN
METHOD:PUBLISH
UID:0e7a7261-020b-4e9c-affd-7accf7dbc97f
X-WR-CALDESC:
X-WR-RELCALID:c6e4e3ef06b94fd78fe7aafae5ca9141
X-WR-TIMEZONE:America/New_York
BEGIN:VTIMEZONE
TZID:America/New_York
BEGIN:STANDARD
TZNAME:EST
DTSTART:20201101T020000
TZOFFSETFROM:-0400
TZOFFSETTO:-0500
RDATE:20211107T020000
END:STANDARD
BEGIN:DAYLIGHT
TZNAME:EDT
DTSTART:20210314T020000
TZOFFSETFROM:-0500
TZOFFSETTO:-0400
RDATE:20220313T020000
END:DAYLIGHT
END:VTIMEZONE
BEGIN:VEVENT
UID:c19c6e8e-106c-48f2-ab30-12ea271524f0
DTSTAMP:20260425T224059Z
DESCRIPTION:
DTSTART;TZID=America/New_York:20210504T150000
DTEND;TZID=America/New_York:20210504T153000
LOCATION:
SUMMARY:3:00-3:30: “Hot TopiX” – Piano concert with  Austin\, Dylan and Edu
 ardo!
END:VEVENT
END:VCALENDAR
