BEGIN:VCALENDAR
VERSION:2.0
PRODID:-//www.thearcofsomerset.org//NONSGML kigkonsult.se iCalcreator 2.30.
 10//
CALSCALE:GREGORIAN
METHOD:PUBLISH
UID:f2bb6ee5-5bef-4287-8f52-5e16dd5c639a
X-WR-CALDESC:
X-WR-RELCALID:7ac24c9535bc776b782da654ef3cf002
X-WR-TIMEZONE:America/New_York
BEGIN:VTIMEZONE
TZID:America/New_York
BEGIN:STANDARD
TZNAME:EST
DTSTART:20201101T020000
TZOFFSETFROM:-0400
TZOFFSETTO:-0500
RDATE:20211107T020000
END:STANDARD
BEGIN:DAYLIGHT
TZNAME:EDT
DTSTART:20210314T020000
TZOFFSETFROM:-0500
TZOFFSETTO:-0400
RDATE:20220313T020000
END:DAYLIGHT
END:VTIMEZONE
BEGIN:VEVENT
UID:68ab97fb-5f58-4164-8d06-942aef3d25c4
DTSTAMP:20260425T224232Z
DESCRIPTION:
DTSTART;TZID=America/New_York:20210506T130000
DTEND;TZID=America/New_York:20210506T133000
LOCATION:
SUMMARY:“Music for Hope and Inspiration” -                        Summer Pl
 aylist dance party!
END:VEVENT
END:VCALENDAR
