BEGIN:VCALENDAR
VERSION:2.0
PRODID:-//www.thearcofsomerset.org//NONSGML kigkonsult.se iCalcreator 2.30.
 10//
CALSCALE:GREGORIAN
METHOD:PUBLISH
UID:ae549a24-4407-4631-bdd4-d43f8b3e957e
X-WR-CALDESC:
X-WR-RELCALID:7c0f90a459993b02549399b032881971
X-WR-TIMEZONE:America/New_York
BEGIN:VTIMEZONE
TZID:America/New_York
BEGIN:STANDARD
TZNAME:EST
DTSTART:20201101T020000
TZOFFSETFROM:-0400
TZOFFSETTO:-0500
RDATE:20211107T020000
RDATE:20221106T020000
END:STANDARD
BEGIN:DAYLIGHT
TZNAME:EDT
DTSTART:20210314T020000
TZOFFSETFROM:-0500
TZOFFSETTO:-0400
RDATE:20220313T020000
END:DAYLIGHT
END:VTIMEZONE
BEGIN:VEVENT
UID:d492b9f7-fb71-438c-99e4-60d76a2de350
DTSTAMP:20260425T223821Z
DESCRIPTION:
DTSTART;TZID=America/New_York:20210507T130000
DTEND;TZID=America/New_York:20210507T133000
LOCATION:
SUMMARY:1:00-1:30pm: Literacy class (Commons 1) - everyone welcome!
END:VEVENT
END:VCALENDAR
