BEGIN:VCALENDAR
VERSION:2.0
PRODID:-//www.thearcofsomerset.org//NONSGML kigkonsult.se iCalcreator 2.30.
 10//
CALSCALE:GREGORIAN
METHOD:PUBLISH
UID:dbf4f577-34b4-48cd-a9aa-5584dca606d8
X-WR-CALDESC:
X-WR-RELCALID:a58f6e1a713714c5c1ffb9f5be1746fe
X-WR-TIMEZONE:America/New_York
BEGIN:VTIMEZONE
TZID:America/New_York
BEGIN:STANDARD
TZNAME:EST
DTSTART:20201101T020000
TZOFFSETFROM:-0400
TZOFFSETTO:-0500
RDATE:20211107T020000
RDATE:20221106T020000
END:STANDARD
BEGIN:DAYLIGHT
TZNAME:EDT
DTSTART:20210314T020000
TZOFFSETFROM:-0500
TZOFFSETTO:-0400
RDATE:20220313T020000
END:DAYLIGHT
END:VTIMEZONE
BEGIN:VEVENT
UID:c4891f97-5bc2-4c34-b89c-71e52b1f1a4b
DTSTAMP:20260425T223852Z
DESCRIPTION:
DTSTART;TZID=America/New_York:20210507T140000
DTEND;TZID=America/New_York:20210507T143000
LOCATION:
SUMMARY:Literacy class (Claremont) - everyone welcome!
END:VEVENT
END:VCALENDAR
